BEGIN:VCALENDAR
VERSION:2.0
PRODID:-//Eventin//Event Calendar//EN
CALSCALE:GREGORIAN
METHOD:PUBLISH
BEGIN:VEVENT
UID:3e02971347a12ccdac756beb08998282@povertymustdie.africa
SUMMARY:AWYDIGITED Summit IBADAN 2023
DESCRIPTION:We are determined to build a new world. A world where women and
  young Africans have the potentials to build a better tomorrow\, and we are
  geared with the tools to make this to a reality.\n\n𝗔𝗳𝗿𝗶𝗰
 𝗮𝗻 𝗪𝗼𝗺𝗲𝗻 & 𝗬𝗼𝘂𝘁𝗵𝘀 𝗗𝗶𝗴𝗶
 𝘁𝗲𝗰𝗵 𝗘𝗱𝘂𝗰𝗮𝘁𝗶𝗼𝗻 is an empowerment pro
 gram for African women and youths on the advancing technology 𝗳𝗲𝗮
 𝘁𝘂𝗿𝗶𝗻𝗴: 4th Industrial Revolution\, Telecom/VTU\, NFTs\, 
 AI\, E-Commerce\, Data Science\, Networking\, Cyber Security\, Fintech\, Co
 ntents Creation\, Digital Marketing\, Healthcare\, Real Estate\, Agribusine
 ss\, Empowerment and more.\n\n𝗔𝗪𝗬𝗗𝗜𝗚𝗜𝗧𝗘𝗗 𝗦
 𝗨𝗠𝗠𝗜𝗧 will teach young Africans and business owners about th
 e concept and tools employed in the fast-leading world Economy\, hence crea
 ting partnerships among young entrepreneurs from start up to large organiza
 tions across Africa.\n\nThis summit will be hosting in 5 regions of NIGERIA
 \, IBADAN Southwest\, OWERRI Southeast\, UYO Southsouth\, ABA Southeast\, P
 ORT HARCOURT Southsouth\, KANO Northwest\, ABUJA Northcentral\, and will oc
 cur in different countries of Africa every year thereby attracting a global
  feel. The next summit location will be in Tanzania\, Rwanda\, Kenya and Ug
 anda to round up for the year 2023.\n\nEXCLUSIVE Certification "Professiona
 l Diploma in 𝗗𝗜𝗚𝗜𝗧𝗘𝗖𝗛 𝗘𝗗𝗨𝗖𝗔𝗧𝗜
 𝗢𝗡 𝗠𝗔𝗡𝗔𝗚𝗘𝗠𝗘𝗡𝗧" by 𝗔𝗔𝗜𝗥𝗜 
 - 𝗔𝗙𝗥𝗜𝗖𝗔𝗡 𝗔𝗠𝗘𝗥𝗜𝗖𝗔𝗡 𝗜𝗡
 𝗧'𝗟 𝗥𝗘𝗦𝗘𝗔𝗥𝗖𝗛 𝗜𝗡𝗦𝗧𝗜𝗧𝗨𝗧
 𝗘 and 𝗡𝗜𝗠 - 𝗡𝗜𝗚𝗘𝗥𝗜𝗔𝗡 𝗜𝗡𝗦𝗧
 𝗜𝗧𝗨𝗧𝗘 𝗢𝗙 𝗠𝗔𝗡𝗔𝗚𝗘𝗠𝗘𝗡𝗧 𝗖
 𝗵𝗮𝗿𝘁𝗲𝗿𝗲𝗱.\n\nThis event will cover up to 12\,000 ph
 ysical participants and Over 150\,000 viewers online.\n\n𝗛𝗼𝘄 𝘁
 𝗼 𝗽𝗮𝗿𝘁𝗶𝗰𝗶𝗽𝗮𝘁𝗲?\n\nAs an individual\, re
 gister one FREE ticket to attend either virtual or physical and obtain a ce
 rtificate "Professional Diploma in DIGITECH EDUCATION MANAGEMENT" that will
  give you access to benefits such as 𝗝𝗼𝗯𝘀\, 𝗦𝘁𝗮𝗿
 𝘁-𝘂𝗽 𝗦𝗲𝗲𝗱\, 𝗘-𝗖𝗼𝗺𝗺𝗲𝗿𝗰𝗲 𝗕
 𝘂𝘀𝗶𝗻𝗲𝘀𝘀\, 𝗧𝗲𝗹𝗲𝗰𝗼𝗺/𝗩𝗧𝗨 
 𝗕𝘂𝘀𝗶𝗻𝗲𝘀𝘀\, 𝗣𝗮𝗿𝘁𝗻𝗲𝗿𝘀𝗵𝗶
 𝗽\, 𝗦𝗰𝗵𝗼𝗹𝗮𝗿𝘀𝗵𝗶𝗽 𝗮𝗻𝗱 𝗺𝗼
 𝗿𝗲.\n\nAs a business owner\, you can exclusively participate in promo
 tions. As a business owner\, you will gain visibility\, promote and sell yo
 ur business offers at the event venues.\n\nFor more information and partner
 ship Call/Whatsapp: +2348026928997\n\nPOWERED By 𝗨𝗔𝗧𝗩 𝗟𝗧
 𝗗\, Headline Sponsor 𝗨𝗙𝗘𝗗𝗢. Associate Sponsor 𝗣𝗠
 𝗗 𝗔𝗙𝗥𝗜𝗖𝗔 𝗙𝗢𝗨𝗡𝗗𝗔𝗧𝗜𝗢𝗡 and 
 𝗨𝗔𝗜 𝗟𝗧𝗗.\n\nAWYDIGITED SUMMIT 2023.\nDon't miss out!\n\n.
 .."𝗔𝗙𝗥𝗜𝗖𝗔 𝗙𝗢𝗥 𝗘𝗖𝗢𝗡𝗢𝗠𝗜𝗖 
 𝗚𝗥𝗢𝗪𝗧𝗛"...\n\nGet your ticket NOW
LOCATION:Online
DTSTAMP:20260420T101805Z
DTSTART:20230121T080000Z
DTEND:20260420T130000Z
END:VEVENT
END:VCALENDAR
