BEGIN:VCALENDAR
VERSION:2.0
PRODID:-//Eventin//Event Calendar//EN
CALSCALE:GREGORIAN
METHOD:PUBLISH
BEGIN:VEVENT
UID:9f8bf6057b2b5e120b0dbabd2c53a266@povertymustdie.africa
SUMMARY:AWYDIGITED Summit Port Harcourt\, 2023
DESCRIPTION:We are determined to build a new world. A world where women and
  young Africans have the potential to build a better tomorrow\, and we are 
 geared with the tools to make this a reality.\n\n𝗔𝗳𝗿𝗶𝗰𝗮
 𝗻 𝗪𝗼𝗺𝗲𝗻 & 𝗬𝗼𝘂𝘁𝗵𝘀 𝗗𝗶𝗴𝗶𝘁
 𝗲𝗰𝗵 𝗘𝗱𝘂𝗰𝗮𝘁𝗶𝗼𝗻 is an empowerment program
  for African women and youths on the advancing technology 𝗳𝗲𝗮𝘁
 𝘂𝗿𝗶𝗻𝗴: 4th Industrial Revolution\, Telecom/VTU\, NFTs\, AI\,
  E-Commerce\, Data Science\, Networking\, Cyber Security\, Fintech\, Conten
 ts Creation\, Digital Marketing\, Healthcare\, Real Estate\, Agribusiness\,
  Empowerment and more.\n\n𝗔𝗪𝗬𝗗𝗜𝗚𝗜𝗧𝗘𝗗 𝗦𝗨
 𝗠𝗠𝗜𝗧 will teach young Africans and business owners about the co
 ncept and tools employed in the fast-leading world Economy\, hence creating
  partnerships among young entrepreneurs from start-ups to large organizatio
 ns across Africa.\n\nThis summit will be hosted in 5 regions of NIGERIA\, I
 BADAN Southwest\, OWERRI Southeast\, UYO Southsouth\, ABA Southeast\, PORT 
 HARCOURT Southsouth\, KANO Northwest\, and ABUJA Northcentral\, and will oc
 cur in different countries of Africa every year thereby attracting a global
  feel. The next summit location will be in Tanzania\, Rwanda\, Kenya\, and 
 Uganda to round up for the year 2023.\n\nEXCLUSIVE Certification "Professio
 nal Diploma in 𝗗𝗜𝗚𝗜𝗧𝗘𝗖𝗛 𝗘𝗗𝗨𝗖𝗔𝗧
 𝗜𝗢𝗡 𝗠𝗔𝗡𝗔𝗚𝗘𝗠𝗘𝗡𝗧" by 𝗔𝗔𝗜𝗥
 𝗜 - 𝗔𝗙𝗥𝗜𝗖𝗔𝗡 𝗔𝗠𝗘𝗥𝗜𝗖𝗔𝗡 𝗜
 𝗡𝗧'𝗟 𝗥𝗘𝗦𝗘𝗔𝗥𝗖𝗛 𝗜𝗡𝗦𝗧𝗜𝗧𝗨
 𝗧𝗘 and 𝗡𝗜𝗠 - 𝗡𝗜𝗚𝗘𝗥𝗜𝗔𝗡 𝗜𝗡𝗦
 𝗧𝗜𝗧𝗨𝗧𝗘 𝗢𝗙 𝗠𝗔𝗡𝗔𝗚𝗘𝗠𝗘𝗡𝗧 
 𝗖𝗵𝗮𝗿𝘁𝗲𝗿𝗲𝗱.\n\nThis event will cover up to 12\,00
 0 physical participants and Over 150\,000 viewers online.\n\n𝗛𝗼𝘄 
 𝘁𝗼 𝗽𝗮𝗿𝘁𝗶𝗰𝗶𝗽𝗮𝘁𝗲?\n\nAs an individual\
 , register one FREE ticket to attend either virtual or physical and obtain 
 a certificate "Professional Diploma in DIGITECH EDUCATION MANAGEMENT" that 
 will give you access to benefits such as 𝗝𝗼𝗯𝘀\, 𝗦𝘁𝗮
 𝗿𝘁-𝘂𝗽 𝗦𝗲𝗲𝗱\, Free FINTECH business\, Free 𝗧𝗲
 𝗹𝗲𝗰𝗼𝗺/𝗩𝗧𝗨 𝗕𝘂𝘀𝗶𝗻𝗲𝘀𝘀\, Free 
 𝗘-𝗖𝗼𝗺𝗺𝗲𝗿𝗰𝗲 𝗕𝘂𝘀𝗶𝗻𝗲𝘀𝘀\, Lo
 ngevity Club\, 𝗣𝗮𝗿𝘁𝗻𝗲𝗿𝘀𝗵𝗶𝗽\, 𝗦𝗰𝗵
 𝗼𝗹𝗮𝗿𝘀𝗵𝗶𝗽 𝗮𝗻𝗱 𝗺𝗼𝗿𝗲.\n\nAs a bus
 iness owner\, you can exclusively participate in promotions. As a business 
 owner\, you will gain visibility\, and promote and sell your business offer
 s at the event venues.\n\nFor more information and partnership Call/Whatsap
 p: +2348026928997\n\nPOWERED By 𝗨𝗔𝗧𝗩 𝗟𝗧𝗗\, Headline Sp
 onsor 𝗨𝗙𝗘𝗗𝗢. Associate Sponsor 𝗣𝗠𝗗 𝗔𝗙𝗥𝗜
 𝗖𝗔 𝗙𝗢𝗨𝗡𝗗𝗔𝗧𝗜𝗢𝗡 and 𝗨𝗔𝗜 𝗟𝗧
 𝗗.\n\nAWYDIGITED SUMMIT 2023.\nDon't miss out!\n\n..."𝗔𝗙𝗥𝗜
 𝗖𝗔 𝗙𝗢𝗥 𝗘𝗖𝗢𝗡𝗢𝗠𝗜𝗖 𝗚𝗥𝗢𝗪𝗧
 𝗛"...\n\nGet your ticket NOW
LOCATION:Online
DTSTAMP:20260420T101627Z
DTSTART:20230408T080000Z
DTEND:20260420T150000Z
END:VEVENT
END:VCALENDAR
